Package: OGRE Version: 1.14.0 Command: /home/biocbuild/bbs-3.22-bioc/R/bin/R CMD INSTALL OGRE StartedAt: 2025-11-11 15:53:05 -0500 (Tue, 11 Nov 2025) EndedAt: 2025-11-11 15:53:57 -0500 (Tue, 11 Nov 2025) EllapsedTime: 51.1 seconds RetCode: 0 Status: OK