Package: OCplus Version: 1.84.0 Command: /home/biocbuild/bbs-3.22-bioc/R/bin/R CMD INSTALL OCplus StartedAt: 2025-10-31 15:22:27 -0400 (Fri, 31 Oct 2025) EndedAt: 2025-10-31 15:22:35 -0400 (Fri, 31 Oct 2025) EllapsedTime: 7.5 seconds RetCode: 0 Status: OK