Package: OCplus Version: 1.84.0 Command: /home/biocbuild/bbs-3.22-bioc/R/bin/R CMD build --keep-empty-dirs --no-resave-data --md5 OCplus StartedAt: 2025-11-03 19:07:06 -0500 (Mon, 03 Nov 2025) EndedAt: 2025-11-03 19:07:29 -0500 (Mon, 03 Nov 2025) EllapsedTime: 23.0 seconds RetCode: 0 Status: OK PackageFile: OCplus_1.84.0.tar.gz PackageFileSize: 9.587 MiB