Package: NuPoP Version: 2.18.0 Command: /home/biocbuild/bbs-3.22-bioc/R/bin/R CMD INSTALL NuPoP StartedAt: 2025-11-06 15:02:12 -0500 (Thu, 06 Nov 2025) EndedAt: 2025-11-06 15:02:40 -0500 (Thu, 06 Nov 2025) EllapsedTime: 28.1 seconds RetCode: 0 Status: OK