Package: NormqPCR Version: 1.56.0 Command: /home/biocbuild/R/R/bin/R CMD INSTALL NormqPCR StartedAt: 2025-11-13 21:19:09 -0000 (Thu, 13 Nov 2025) EndedAt: 2025-11-13 21:19:29 -0000 (Thu, 13 Nov 2025) EllapsedTime: 20.3 seconds RetCode: 0 Status: OK