Package: NormqPCR Version: 1.56.0 Command: /home/biocbuild/R/R/bin/R CMD build --keep-empty-dirs --no-resave-data NormqPCR StartedAt: 2025-11-14 03:49:56 -0000 (Fri, 14 Nov 2025) EndedAt: 2025-11-14 03:50:13 -0000 (Fri, 14 Nov 2025) EllapsedTime: 17.0 seconds RetCode: 0 Status: OK PackageFile: NormqPCR_1.56.0.tar.gz PackageFileSize: 407.5 KiB