Package: NormqPCR Version: 1.56.0 Command: /Library/Frameworks/R.framework/Resources/bin/R CMD INSTALL NormqPCR StartedAt: 2025-10-31 15:24:06 -0400 (Fri, 31 Oct 2025) EndedAt: 2025-10-31 15:24:20 -0400 (Fri, 31 Oct 2025) EllapsedTime: 13.8 seconds RetCode: 0 Status: OK