Package: NormqPCR Version: 1.56.0 Command: /Library/Frameworks/R.framework/Resources/bin/R CMD build --keep-empty-dirs --no-resave-data NormqPCR StartedAt: 2025-11-03 18:02:42 -0500 (Mon, 03 Nov 2025) EndedAt: 2025-11-03 18:03:03 -0500 (Mon, 03 Nov 2025) EllapsedTime: 20.5 seconds RetCode: 0 Status: OK PackageFile: NormqPCR_1.56.0.tar.gz PackageFileSize: 417.4 KiB