Package: NormqPCR Version: 1.54.0 Command: /home/biocbuild/R/R/bin/R CMD INSTALL NormqPCR StartedAt: 2025-09-25 20:25:24 -0000 (Thu, 25 Sep 2025) EndedAt: 2025-09-25 20:25:34 -0000 (Thu, 25 Sep 2025) EllapsedTime: 10.2 seconds RetCode: 0 Status: OK