Package: NormqPCR Version: 1.54.0 Command: /Library/Frameworks/R.framework/Resources/bin/R CMD INSTALL NormqPCR StartedAt: 2025-04-21 15:06:55 -0400 (Mon, 21 Apr 2025) EndedAt: 2025-04-21 15:06:59 -0400 (Mon, 21 Apr 2025) EllapsedTime: 4.0 seconds RetCode: 0 Status: OK