Package: NormqPCR Version: 1.54.0 Command: /Library/Frameworks/R.framework/Resources/bin/R CMD INSTALL NormqPCR StartedAt: 2025-10-13 15:36:37 -0400 (Mon, 13 Oct 2025) EndedAt: 2025-10-13 15:36:46 -0400 (Mon, 13 Oct 2025) EllapsedTime: 8.6 seconds RetCode: 0 Status: OK