Package: NormqPCR Version: 1.54.0 Command: /Library/Frameworks/R.framework/Resources/bin/R CMD build --keep-empty-dirs --no-resave-data NormqPCR StartedAt: 2025-10-14 05:47:25 -0400 (Tue, 14 Oct 2025) EndedAt: 2025-10-14 05:47:47 -0400 (Tue, 14 Oct 2025) EllapsedTime: 21.8 seconds RetCode: 0 Status: OK PackageFile: NormqPCR_1.54.0.tar.gz PackageFileSize: 418.1 KiB