Package: NormalyzerDE Version: 1.28.0 Command: /home/biocbuild/bbs-3.22-bioc/R/bin/R CMD INSTALL NormalyzerDE StartedAt: 2025-11-16 15:40:37 -0500 (Sun, 16 Nov 2025) EndedAt: 2025-11-16 15:40:59 -0500 (Sun, 16 Nov 2025) EllapsedTime: 22.5 seconds RetCode: 0 Status: OK