Package: NewWave Version: 1.20.0 Command: /home/biocbuild/bbs-3.22-bioc/R/bin/R CMD INSTALL NewWave StartedAt: 2025-11-13 15:56:54 -0500 (Thu, 13 Nov 2025) EndedAt: 2025-11-13 15:57:21 -0500 (Thu, 13 Nov 2025) EllapsedTime: 26.8 seconds RetCode: 0 Status: OK