Package: NewWave Version: 1.20.0 Command: /home/biocbuild/bbs-3.22-bioc/R/bin/R CMD build --keep-empty-dirs --no-resave-data --md5 NewWave StartedAt: 2025-11-13 19:06:09 -0500 (Thu, 13 Nov 2025) EndedAt: 2025-11-13 19:08:15 -0500 (Thu, 13 Nov 2025) EllapsedTime: 126.1 seconds RetCode: 0 Status: OK PackageFile: NewWave_1.20.0.tar.gz PackageFileSize: 82.15 KiB