Package: NewWave Version: 1.20.0 Command: /Library/Frameworks/R.framework/Resources/bin/R CMD INSTALL NewWave StartedAt: 2025-11-10 15:28:55 -0500 (Mon, 10 Nov 2025) EndedAt: 2025-11-10 15:29:06 -0500 (Mon, 10 Nov 2025) EllapsedTime: 10.7 seconds RetCode: 0 Status: OK