Package: NetSAM Version: 1.50.0 Command: /home/biocbuild/bbs-3.22-bioc/R/bin/R CMD INSTALL NetSAM StartedAt: 2025-11-11 15:48:35 -0500 (Tue, 11 Nov 2025) EndedAt: 2025-11-11 15:48:58 -0500 (Tue, 11 Nov 2025) EllapsedTime: 23.4 seconds RetCode: 0 Status: OK