Package: NetSAM Version: 1.50.0 Command: /home/biocbuild/bbs-3.22-bioc/R/bin/R CMD check --install=check:NetSAM.install-out.txt --library=/home/biocbuild/bbs-3.22-bioc/R/site-library --timings NetSAM_1.50.0.tar.gz StartedAt: 2025-11-12 02:09:04 -0500 (Wed, 12 Nov 2025) EndedAt: 2025-11-12 02:31:59 -0500 (Wed, 12 Nov 2025) EllapsedTime: 1375.5 seconds RetCode: 0 Status: OK CheckDir: NetSAM.Rcheck Warnings: 0