Package: NetSAM Version: 1.50.0 Command: /home/biocbuild/bbs-3.22-bioc/R/bin/R CMD build --keep-empty-dirs --no-resave-data --md5 NetSAM StartedAt: 2025-11-11 19:07:31 -0500 (Tue, 11 Nov 2025) EndedAt: 2025-11-11 19:07:59 -0500 (Tue, 11 Nov 2025) EllapsedTime: 28.0 seconds RetCode: 0 Status: OK PackageFile: NetSAM_1.50.0.tar.gz PackageFileSize: 1.036 MiB