Package: NetSAM Version: 1.48.0 Command: /home/biocbuild/bbs-3.21-bioc/R/bin/R CMD INSTALL NetSAM StartedAt: 2025-10-15 15:46:43 -0400 (Wed, 15 Oct 2025) EndedAt: 2025-10-15 15:47:08 -0400 (Wed, 15 Oct 2025) EllapsedTime: 24.2 seconds RetCode: 0 Status: OK