Package: NetSAM Version: 1.48.0 Command: /home/biocbuild/bbs-3.21-bioc/R/bin/R CMD build --keep-empty-dirs --no-resave-data NetSAM StartedAt: 2025-10-15 18:51:38 -0400 (Wed, 15 Oct 2025) EndedAt: 2025-10-15 18:52:07 -0400 (Wed, 15 Oct 2025) EllapsedTime: 29.1 seconds RetCode: 0 Status: OK PackageFile: NetSAM_1.48.0.tar.gz PackageFileSize: 1.034 MiB