Package: NetSAM Version: 1.48.0 Command: rm -rf NetSAM.buildbin-libdir && mkdir NetSAM.buildbin-libdir && /Users/biocbuild/BBS/utils/build-universal.sh NetSAM_1.48.0.tar.gz /Library/Frameworks/R.framework/Resources/bin/R NetSAM.buildbin-libdir StartedAt: 2025-04-21 22:44:44 -0400 (Mon, 21 Apr 2025) EndedAt: 2025-04-21 22:44:54 -0400 (Mon, 21 Apr 2025) EllapsedTime: 10.2 seconds RetCode: 0 Status: OK PackageFile: NetSAM_1.48.0.tgz PackageFileSize: 1.232 MiB