Package: NetPathMiner Version: 1.46.0 Command: /home/biocbuild/R/R/bin/R CMD INSTALL NetPathMiner StartedAt: 2025-11-13 21:07:36 -0000 (Thu, 13 Nov 2025) EndedAt: 2025-11-13 21:08:12 -0000 (Thu, 13 Nov 2025) EllapsedTime: 35.3 seconds RetCode: 0 Status: OK