Package: NetPathMiner Version: 1.46.0 Command: /home/biocbuild/bbs-3.22-bioc/R/bin/R CMD INSTALL NetPathMiner StartedAt: 2025-11-11 15:09:40 -0500 (Tue, 11 Nov 2025) EndedAt: 2025-11-11 15:10:04 -0500 (Tue, 11 Nov 2025) EllapsedTime: 23.3 seconds RetCode: 0 Status: OK