Package: NetPathMiner Version: 1.44.0 Command: /Library/Frameworks/R.framework/Resources/bin/R CMD build --keep-empty-dirs --no-resave-data NetPathMiner StartedAt: 2025-10-13 21:05:58 -0400 (Mon, 13 Oct 2025) EndedAt: 2025-10-13 21:07:00 -0400 (Mon, 13 Oct 2025) EllapsedTime: 62.7 seconds RetCode: 0 Status: OK PackageFile: NetPathMiner_1.44.0.tar.gz PackageFileSize: 2.48 MiB