Package: NetActivity Version: 1.12.0 Command: /home/biocbuild/bbs-3.22-bioc/R/bin/R CMD INSTALL NetActivity StartedAt: 2025-11-11 15:35:05 -0500 (Tue, 11 Nov 2025) EndedAt: 2025-11-11 15:35:29 -0500 (Tue, 11 Nov 2025) EllapsedTime: 23.9 seconds RetCode: 0 Status: OK