Package: NetActivity Version: 1.12.0 Command: /home/biocbuild/bbs-3.22-bioc/R/bin/R CMD check --install=check:NetActivity.install-out.txt --library=/home/biocbuild/bbs-3.22-bioc/R/site-library --timings NetActivity_1.12.0.tar.gz StartedAt: 2025-11-12 02:08:24 -0500 (Wed, 12 Nov 2025) EndedAt: 2025-11-12 02:12:33 -0500 (Wed, 12 Nov 2025) EllapsedTime: 249.2 seconds RetCode: 0 Status: OK CheckDir: NetActivity.Rcheck Warnings: 0