Package: NetActivity Version: 1.10.0 Command: /home/biocbuild/bbs-3.21-bioc/R/bin/R CMD INSTALL NetActivity StartedAt: 2025-10-12 15:30:24 -0400 (Sun, 12 Oct 2025) EndedAt: 2025-10-12 15:30:48 -0400 (Sun, 12 Oct 2025) EllapsedTime: 24.0 seconds RetCode: 0 Status: OK