Package: NetActivity Version: 1.10.0 Command: /home/biocbuild/bbs-3.21-bioc/R/bin/R CMD build --keep-empty-dirs --no-resave-data NetActivity StartedAt: 2025-10-12 18:51:43 -0400 (Sun, 12 Oct 2025) EndedAt: 2025-10-12 18:52:41 -0400 (Sun, 12 Oct 2025) EllapsedTime: 58.1 seconds RetCode: 0 Status: OK PackageFile: NetActivity_1.10.0.tar.gz PackageFileSize: 428.7 KiB