Package: NetActivity Version: 1.12.0 Command: /Library/Frameworks/R.framework/Resources/bin/R CMD INSTALL NetActivity StartedAt: 2025-11-20 16:41:09 -0500 (Thu, 20 Nov 2025) EndedAt: 2025-11-20 16:42:01 -0500 (Thu, 20 Nov 2025) EllapsedTime: 52.1 seconds RetCode: 0 Status: OK