Package: NetActivity Version: 1.12.0 Command: /Library/Frameworks/R.framework/Resources/bin/R CMD build --keep-empty-dirs --no-resave-data NetActivity StartedAt: 2025-11-20 22:10:44 -0500 (Thu, 20 Nov 2025) EndedAt: 2025-11-20 22:12:58 -0500 (Thu, 20 Nov 2025) EllapsedTime: 133.4 seconds RetCode: 0 Status: OK PackageFile: NetActivity_1.12.0.tar.gz PackageFileSize: 438 KiB