Package: NetActivity Version: 1.12.0 Command: rm -rf NetActivity.buildbin-libdir && mkdir NetActivity.buildbin-libdir && /Users/biocbuild/BBS/utils/build-universal.sh NetActivity_1.12.0.tar.gz /Library/Frameworks/R.framework/Resources/bin/R NetActivity.buildbin-libdir StartedAt: 2025-11-21 15:13:24 -0500 (Fri, 21 Nov 2025) EndedAt: 2025-11-21 15:14:20 -0500 (Fri, 21 Nov 2025) EllapsedTime: 55.5 seconds RetCode: 0 Status: OK PackageFile: NetActivity_1.12.0.tgz PackageFileSize: 447.3 KiB