Package: NetActivity Version: 1.10.0 Command: rm -rf NetActivity.buildbin-libdir && mkdir NetActivity.buildbin-libdir && /Users/biocbuild/BBS/utils/build-universal.sh NetActivity_1.10.0.tar.gz /Library/Frameworks/R.framework/Resources/bin/R NetActivity.buildbin-libdir StartedAt: 2025-04-21 22:44:38 -0400 (Mon, 21 Apr 2025) EndedAt: 2025-04-21 22:44:49 -0400 (Mon, 21 Apr 2025) EllapsedTime: 11.2 seconds RetCode: 0 Status: OK PackageFile: NetActivity_1.10.0.tgz PackageFileSize: 447.6 KiB