Package: Nebulosa Version: 1.20.0 Command: /home/biocbuild/bbs-3.22-bioc/R/bin/R CMD INSTALL Nebulosa StartedAt: 2025-11-11 15:23:57 -0500 (Tue, 11 Nov 2025) EndedAt: 2025-11-11 15:24:27 -0500 (Tue, 11 Nov 2025) EllapsedTime: 30.2 seconds RetCode: 0 Status: OK