Package: Nebulosa Version: 1.20.0 Command: /home/biocbuild/bbs-3.22-bioc/R/bin/R CMD check --install=check:Nebulosa.install-out.txt --library=/home/biocbuild/bbs-3.22-bioc/R/site-library --timings Nebulosa_1.20.0.tar.gz StartedAt: 2025-11-26 02:32:19 -0500 (Wed, 26 Nov 2025) EndedAt: 2025-11-26 02:41:58 -0500 (Wed, 26 Nov 2025) EllapsedTime: 579.6 seconds RetCode: 0 Status: OK CheckDir: Nebulosa.Rcheck Warnings: 0