Package: Nebulosa Version: 1.20.0 Command: /home/biocbuild/bbs-3.22-bioc/R/bin/R CMD build --keep-empty-dirs --no-resave-data --md5 Nebulosa StartedAt: 2025-11-11 19:05:53 -0500 (Tue, 11 Nov 2025) EndedAt: 2025-11-11 19:08:41 -0500 (Tue, 11 Nov 2025) EllapsedTime: 168.1 seconds RetCode: 0 Status: OK PackageFile: Nebulosa_1.20.0.tar.gz PackageFileSize: 3.029 MiB