Package: Nebulosa Version: 1.20.0 Command: /Library/Frameworks/R.framework/Resources/bin/R CMD INSTALL Nebulosa StartedAt: 2025-11-03 15:26:37 -0500 (Mon, 03 Nov 2025) EndedAt: 2025-11-03 15:27:18 -0500 (Mon, 03 Nov 2025) EllapsedTime: 41.2 seconds RetCode: 0 Status: OK