Package: Nebulosa Version: 1.20.0 Command: /Library/Frameworks/R.framework/Resources/bin/R CMD build --keep-empty-dirs --no-resave-data Nebulosa StartedAt: 2025-11-03 18:01:15 -0500 (Mon, 03 Nov 2025) EndedAt: 2025-11-03 18:04:23 -0500 (Mon, 03 Nov 2025) EllapsedTime: 188.1 seconds RetCode: 0 Status: OK PackageFile: Nebulosa_1.20.0.tar.gz PackageFileSize: 3.537 MiB