Package: NanoStringNCTools Version: 1.18.0 Command: /home/biocbuild/R/R/bin/R CMD INSTALL NanoStringNCTools StartedAt: 2025-11-10 21:21:56 -0000 (Mon, 10 Nov 2025) EndedAt: 2025-11-10 21:22:21 -0000 (Mon, 10 Nov 2025) EllapsedTime: 25.0 seconds RetCode: 0 Status: OK