Package: NanoStringNCTools Version: 1.18.0 Command: /home/biocbuild/R/R/bin/R CMD build --keep-empty-dirs --no-resave-data NanoStringNCTools StartedAt: 2025-11-14 03:44:45 -0000 (Fri, 14 Nov 2025) EndedAt: 2025-11-14 03:45:29 -0000 (Fri, 14 Nov 2025) EllapsedTime: 44.0 seconds RetCode: 0 Status: OK PackageFile: NanoStringNCTools_1.18.0.tar.gz PackageFileSize: 507.5 KiB