Package: NanoStringNCTools Version: 1.18.0 Command: /home/biocbuild/bbs-3.22-bioc/R/bin/R CMD INSTALL NanoStringNCTools StartedAt: 2025-11-11 15:19:57 -0500 (Tue, 11 Nov 2025) EndedAt: 2025-11-11 15:20:15 -0500 (Tue, 11 Nov 2025) EllapsedTime: 17.2 seconds RetCode: 0 Status: OK