Package: NanoStringNCTools Version: 1.18.0 Command: /home/biocbuild/bbs-3.22-bioc/R/bin/R CMD check --install=check:NanoStringNCTools.install-out.txt --library=/home/biocbuild/bbs-3.22-bioc/R/site-library --timings NanoStringNCTools_1.18.0.tar.gz StartedAt: 2025-11-12 02:05:17 -0500 (Wed, 12 Nov 2025) EndedAt: 2025-11-12 02:07:25 -0500 (Wed, 12 Nov 2025) EllapsedTime: 128.1 seconds RetCode: 0 Status: OK CheckDir: NanoStringNCTools.Rcheck Warnings: 0