Package: NanoStringNCTools Version: 1.16.1 Command: /home/biocbuild/bbs-3.21-bioc/R/bin/R CMD INSTALL NanoStringNCTools StartedAt: 2025-09-28 15:30:07 -0400 (Sun, 28 Sep 2025) EndedAt: 2025-09-28 15:30:24 -0400 (Sun, 28 Sep 2025) EllapsedTime: 17.2 seconds RetCode: 0 Status: OK