Package: NanoStringNCTools Version: 1.16.2 Command: /home/biocbuild/bbs-3.21-bioc/R/bin/R CMD check --install=check:NanoStringNCTools.install-out.txt --library=/home/biocbuild/bbs-3.21-bioc/R/site-library --timings NanoStringNCTools_1.16.2.tar.gz StartedAt: 2025-10-16 01:36:08 -0400 (Thu, 16 Oct 2025) EndedAt: 2025-10-16 01:38:14 -0400 (Thu, 16 Oct 2025) EllapsedTime: 126.4 seconds RetCode: 0 Status: OK CheckDir: NanoStringNCTools.Rcheck Warnings: 0