Package: NanoStringNCTools Version: 1.16.1 Command: /home/biocbuild/bbs-3.21-bioc/R/bin/R CMD build --keep-empty-dirs --no-resave-data NanoStringNCTools StartedAt: 2025-09-28 19:01:30 -0400 (Sun, 28 Sep 2025) EndedAt: 2025-09-28 19:01:55 -0400 (Sun, 28 Sep 2025) EllapsedTime: 25.0 seconds RetCode: 1 Status: ERROR PackageFile: None PackageFileSize: NA