Package: NanoStringNCTools Version: 1.16.2 Command: /Library/Frameworks/R.framework/Resources/bin/R CMD check --install=check:NanoStringNCTools.install-out.txt --library=/Library/Frameworks/R.framework/Resources/library --no-vignettes --timings NanoStringNCTools_1.16.2.tar.gz StartedAt: 2025-10-15 05:42:45 -0400 (Wed, 15 Oct 2025) EndedAt: 2025-10-15 05:45:06 -0400 (Wed, 15 Oct 2025) EllapsedTime: 140.6 seconds RetCode: 0 Status: OK CheckDir: NanoStringNCTools.Rcheck Warnings: 0