Package: NanoStringDiff Version: 1.40.0 Command: /home/biocbuild/R/R/bin/R CMD INSTALL NanoStringDiff StartedAt: 2025-11-10 21:20:35 -0000 (Mon, 10 Nov 2025) EndedAt: 2025-11-10 21:20:49 -0000 (Mon, 10 Nov 2025) EllapsedTime: 13.1 seconds RetCode: 0 Status: OK