Package: NanoStringDiff Version: 1.40.0 Command: /home/biocbuild/R/R/bin/R CMD check --install=check:NanoStringDiff.install-out.txt --library=/home/biocbuild/R/R/site-library --no-vignettes --timings NanoStringDiff_1.40.0.tar.gz StartedAt: 2025-11-11 12:25:11 -0000 (Tue, 11 Nov 2025) EndedAt: 2025-11-11 12:27:43 -0000 (Tue, 11 Nov 2025) EllapsedTime: 151.4 seconds RetCode: 0 Status: WARNINGS CheckDir: NanoStringDiff.Rcheck Warnings: 1