Package: NanoStringDiff Version: 1.40.0 Command: /home/biocbuild/bbs-3.22-bioc/R/bin/R CMD check --install=check:NanoStringDiff.install-out.txt --library=/home/biocbuild/bbs-3.22-bioc/R/site-library --timings NanoStringDiff_1.40.0.tar.gz StartedAt: 2025-11-12 02:05:06 -0500 (Wed, 12 Nov 2025) EndedAt: 2025-11-12 02:07:06 -0500 (Wed, 12 Nov 2025) EllapsedTime: 120.1 seconds RetCode: 0 Status: WARNINGS CheckDir: NanoStringDiff.Rcheck Warnings: 1