Package: NanoStringDiff Version: 1.38.0 Command: /Library/Frameworks/R.framework/Resources/bin/R CMD check --install=check:NanoStringDiff.install-out.txt --library=/Library/Frameworks/R.framework/Resources/library --no-vignettes --timings NanoStringDiff_1.38.0.tar.gz StartedAt: 2025-10-03 07:13:22 -0400 (Fri, 03 Oct 2025) EndedAt: 2025-10-03 07:17:11 -0400 (Fri, 03 Oct 2025) EllapsedTime: 229.7 seconds RetCode: 0 Status: WARNINGS CheckDir: NanoStringDiff.Rcheck Warnings: 1